BEGIN:VCALENDAR
VERSION:2.0
PRODID:-//Evangelische Kerk &#039;De Akker&#039; - ECPv6.15.20//NONSGML v1.0//EN
CALSCALE:GREGORIAN
METHOD:PUBLISH
X-WR-CALNAME:Evangelische Kerk &#039;De Akker&#039;
X-ORIGINAL-URL:https://www.deakker.org
X-WR-CALDESC:Events voor Evangelische Kerk &#039;De Akker&#039;
REFRESH-INTERVAL;VALUE=DURATION:PT1H
X-Robots-Tag:noindex
X-PUBLISHED-TTL:PT1H
BEGIN:VTIMEZONE
TZID:Europe/Brussels
BEGIN:DAYLIGHT
TZOFFSETFROM:+0100
TZOFFSETTO:+0200
TZNAME:CEST
DTSTART:20230326T010000
END:DAYLIGHT
BEGIN:STANDARD
TZOFFSETFROM:+0200
TZOFFSETTO:+0100
TZNAME:CET
DTSTART:20231029T010000
END:STANDARD
BEGIN:DAYLIGHT
TZOFFSETFROM:+0100
TZOFFSETTO:+0200
TZNAME:CEST
DTSTART:20240331T010000
END:DAYLIGHT
BEGIN:STANDARD
TZOFFSETFROM:+0200
TZOFFSETTO:+0100
TZNAME:CET
DTSTART:20241027T010000
END:STANDARD
BEGIN:DAYLIGHT
TZOFFSETFROM:+0100
TZOFFSETTO:+0200
TZNAME:CEST
DTSTART:20250330T010000
END:DAYLIGHT
BEGIN:STANDARD
TZOFFSETFROM:+0200
TZOFFSETTO:+0100
TZNAME:CET
DTSTART:20251026T010000
END:STANDARD
END:VTIMEZONE
BEGIN:VEVENT
DTSTART;TZID=Europe/Brussels:20240114T193000
DTEND;TZID=Europe/Brussels:20240114T193000
DTSTAMP:20260419T184736
CREATED:20231230T122122Z
LAST-MODIFIED:20231230T122122Z
UID:30-1705260600-1705260600@www.deakker.org
SUMMARY:Provinciale aanbiddingsavond
DESCRIPTION:
URL:https://www.deakker.org/evenement/provinciale-aanbiddingsavond/
LOCATION:Schuttershof\, Boogschutterslaan 41\, Brugge\, 8310
ATTACH;FMTTYPE=image/png:https://www.deakker.org/wp-content/uploads/20240114.png
END:VEVENT
END:VCALENDAR